BEGIN:VCALENDAR
VERSION:2.0
PRODID:-//Soft Bones - ECPv6.15.20//NONSGML v1.0//EN
CALSCALE:GREGORIAN
METHOD:PUBLISH
X-ORIGINAL-URL:https://softbones.org
X-WR-CALDESC:Events for Soft Bones
REFRESH-INTERVAL;VALUE=DURATION:PT1H
X-Robots-Tag:noindex
X-PUBLISHED-TTL:PT1H
BEGIN:VTIMEZONE
TZID:America/Denver
BEGIN:DAYLIGHT
TZOFFSETFROM:-0700
TZOFFSETTO:-0600
TZNAME:MDT
DTSTART:20240310T090000
END:DAYLIGHT
BEGIN:STANDARD
TZOFFSETFROM:-0600
TZOFFSETTO:-0700
TZNAME:MST
DTSTART:20241103T080000
END:STANDARD
BEGIN:DAYLIGHT
TZOFFSETFROM:-0700
TZOFFSETTO:-0600
TZNAME:MDT
DTSTART:20250309T090000
END:DAYLIGHT
BEGIN:STANDARD
TZOFFSETFROM:-0600
TZOFFSETTO:-0700
TZNAME:MST
DTSTART:20251102T080000
END:STANDARD
BEGIN:DAYLIGHT
TZOFFSETFROM:-0700
TZOFFSETTO:-0600
TZNAME:MDT
DTSTART:20260308T090000
END:DAYLIGHT
BEGIN:STANDARD
TZOFFSETFROM:-0600
TZOFFSETTO:-0700
TZNAME:MST
DTSTART:20261101T080000
END:STANDARD
END:VTIMEZONE
BEGIN:VTIMEZONE
TZID:America/Chicago
BEGIN:DAYLIGHT
TZOFFSETFROM:-0600
TZOFFSETTO:-0500
TZNAME:CDT
DTSTART:20240310T080000
END:DAYLIGHT
BEGIN:STANDARD
TZOFFSETFROM:-0500
TZOFFSETTO:-0600
TZNAME:CST
DTSTART:20241103T070000
END:STANDARD
BEGIN:DAYLIGHT
TZOFFSETFROM:-0600
TZOFFSETTO:-0500
TZNAME:CDT
DTSTART:20250309T080000
END:DAYLIGHT
BEGIN:STANDARD
TZOFFSETFROM:-0500
TZOFFSETTO:-0600
TZNAME:CST
DTSTART:20251102T070000
END:STANDARD
BEGIN:DAYLIGHT
TZOFFSETFROM:-0600
TZOFFSETTO:-0500
TZNAME:CDT
DTSTART:20260308T080000
END:DAYLIGHT
BEGIN:STANDARD
TZOFFSETFROM:-0500
TZOFFSETTO:-0600
TZNAME:CST
DTSTART:20261101T070000
END:STANDARD
END:VTIMEZONE
BEGIN:VTIMEZONE
TZID:America/New_York
BEGIN:DAYLIGHT
TZOFFSETFROM:-0500
TZOFFSETTO:-0400
TZNAME:EDT
DTSTART:20240310T070000
END:DAYLIGHT
BEGIN:STANDARD
TZOFFSETFROM:-0400
TZOFFSETTO:-0500
TZNAME:EST
DTSTART:20241103T060000
END:STANDARD
BEGIN:DAYLIGHT
TZOFFSETFROM:-0500
TZOFFSETTO:-0400
TZNAME:EDT
DTSTART:20250309T070000
END:DAYLIGHT
BEGIN:STANDARD
TZOFFSETFROM:-0400
TZOFFSETTO:-0500
TZNAME:EST
DTSTART:20251102T060000
END:STANDARD
BEGIN:DAYLIGHT
TZOFFSETFROM:-0500
TZOFFSETTO:-0400
TZNAME:EDT
DTSTART:20260308T070000
END:DAYLIGHT
BEGIN:STANDARD
TZOFFSETFROM:-0400
TZOFFSETTO:-0500
TZNAME:EST
DTSTART:20261101T060000
END:STANDARD
END:VTIMEZONE
BEGIN:VEVENT
DTSTART;TZID=America/Denver:20250508T180000
DTEND;TZID=America/Denver:20250508T190000
DTSTAMP:20260422T192133
CREATED:20250417T144232Z
LAST-MODIFIED:20250417T144232Z
UID:11861-1746727200-1746730800@softbones.org
SUMMARY:Join Us for a Northwest Region Zoom Chat - May 8\, 2025
DESCRIPTION:Do you live in Alaska\, Idaho\, Montana\, Northern California\, Oregon\, or Washington? \n  \nJoin Region Leads Scarlett P. and Hayley T. for a Zoom Chat on May 8th at 6 PM Pacific/9 PM Eastern. This is a great opportunity to meet your newest Region Lead\, Scarlett\, and catch up with fellow members from your region. We’d love to see you there! \n  \nRegistration is required. Please register HERE.  \n  \nThis meeting is sponsored in part by Alexion\, AstraZeneca Rare Disease. If you have any questions\, please reach out to Cindy@SoftBones.org.
URL:https://softbones.org/event/join-us-for-a-northwest-region-zoom-chat-may-8-2025/
END:VEVENT
BEGIN:VEVENT
DTSTART;TZID=America/Chicago:20250510T103000
DTEND;TZID=America/Chicago:20250510T133000
DTSTAMP:20260422T192133
CREATED:20250303T200303Z
LAST-MODIFIED:20250404T171403Z
UID:11573-1746873000-1746883800@softbones.org
SUMMARY:Join Us for an In-Person Southeast Region Meeting - May 10\, 2025
DESCRIPTION:Do you live in Alabama\, Florida\, Georgia\, Mississippi\, North Carolina\, South Carolina\, or Tennessee? \n  \nJoin us in Nashville\, TN! \n  \nSoutheast Region Leads\, Blynda K.\, Scott G.\, and Tess O.\, have planned a lunch get-together on May 10\, 2025\, 10:30 AM-1:30 PM Central. All Southeast Region members and families are welcome to learn more about your local HPP support system and connect with fellow HPP families! \n  \nRegistration is required and will close on April 26th\, 2025. Please register HERE.  \n  \nIf you have any questions\, please reach out to Cindy@SoftBones.org.
URL:https://softbones.org/event/join-us-for-an-in-person-southeast-region-meeting/
END:VEVENT
BEGIN:VEVENT
DTSTART;TZID=America/New_York:20250517T173000
DTEND;TZID=America/New_York:20250517T213000
DTSTAMP:20260422T192133
CREATED:20241016T044127Z
LAST-MODIFIED:20250314T180321Z
UID:10980-1747503000-1747517400@softbones.org
SUMMARY:3rd Annual Denim and Diamonds Fundraiser - REGISTRATION IS NOW OPEN
DESCRIPTION:Registration for the 3rd Annual Denim and Diamonds is now open! \n  \nGet your cowboy boots and dance for a great cause. \n  \nThere will be: \n🤠Live music by Glenn Roberts Cranked Up Country Band \n🍖 BBQ spread by Famous Dave’s \n🍸 Beer\, wine\, and specialty cocktails included \n💎Silent Auction \n🔥S’mores and campfire (weather permitting) \n🤩Sponsorship opportunities to get your business out there \n  \nDate: Saturday\, May 17\, 2025 \nLocation: Alstede Farms\, 100 Rte 24\, Chester\, NJ 07930 \nTime: 5:30 PM – 9:30 PM \n  \nRegister HERE. \n  \nCan’t attend but still want to donate to Soft Bones? Donate an auctionable item. Contact Jessica at Jessica@softbones.org for more information.
URL:https://softbones.org/event/3rd-annual-denim-and-diamonds-fundraiser-save-the-date/
LOCATION:Harvest Hall at Alstede Farms\, 100 Rte 24\, Chester\, 07930\, United States
END:VEVENT
BEGIN:VEVENT
DTSTART;TZID=America/New_York:20250520T200000
DTEND;TZID=America/New_York:20250520T210000
DTSTAMP:20260422T192133
CREATED:20250430T153814Z
LAST-MODIFIED:20250430T153814Z
UID:11935-1747771200-1747774800@softbones.org
SUMMARY:HPP AND ME Live Zoom Chat - May 20\, 2025
DESCRIPTION:Register for your spot today! \n\n\nJoin us on May 20\, 2025\, at 8 PM Eastern for an HPP AND ME Zoom Chat. Connect with others and share your experiences with HPP. Registration is required. We hope to see you there! \nClick here to register.
URL:https://softbones.org/event/hpp-and-me-live-zoom-chat-may-20-2025/
LOCATION:Online
END:VEVENT
BEGIN:VEVENT
DTSTART;TZID=America/Chicago:20250525T100000
DTEND;TZID=America/Chicago:20250525T130000
DTSTAMP:20260422T192133
CREATED:20250403T182733Z
LAST-MODIFIED:20250403T182812Z
UID:11829-1748167200-1748178000@softbones.org
SUMMARY:Join Us for an In-Person Midwest 1 Region Meeting - May 25\, 2025
DESCRIPTION:Do you live in Illinois\, Indiana\, Iowa\, Minnesota\, or Wisconsin? \n  \nJoin us in Maple Grove/Anoka\, MN! \n  \nJoin Region Lead\, Jan R. for a Midwest 1 Region Luncheon on May 25\, 2025\, from 10 AM-1 PM Central Time. Come meet others from your region. Lunch will be served. \n  \nRegistration is required and will close on May 11th. Please register HERE. \n  \nThis event is sponsored in part by Alexion\, AstraZeneca. If you have any questions\, please reach out to Cindy@SoftBones.org.
URL:https://softbones.org/event/join-us-for-an-in-person-midwest-1-region-meeting-may-25-2025/
END:VEVENT
END:VCALENDAR