BEGIN:VCALENDAR
VERSION:2.0
PRODID:-//Soft Bones - ECPv6.15.20//NONSGML v1.0//EN
CALSCALE:GREGORIAN
METHOD:PUBLISH
X-WR-CALNAME:Soft Bones
X-ORIGINAL-URL:https://softbones.org
X-WR-CALDESC:Events for Soft Bones
REFRESH-INTERVAL;VALUE=DURATION:PT1H
X-Robots-Tag:noindex
X-PUBLISHED-TTL:PT1H
BEGIN:VTIMEZONE
TZID:America/New_York
BEGIN:DAYLIGHT
TZOFFSETFROM:-0500
TZOFFSETTO:-0400
TZNAME:EDT
DTSTART:20240310T070000
END:DAYLIGHT
BEGIN:STANDARD
TZOFFSETFROM:-0400
TZOFFSETTO:-0500
TZNAME:EST
DTSTART:20241103T060000
END:STANDARD
BEGIN:DAYLIGHT
TZOFFSETFROM:-0500
TZOFFSETTO:-0400
TZNAME:EDT
DTSTART:20250309T070000
END:DAYLIGHT
BEGIN:STANDARD
TZOFFSETFROM:-0400
TZOFFSETTO:-0500
TZNAME:EST
DTSTART:20251102T060000
END:STANDARD
BEGIN:DAYLIGHT
TZOFFSETFROM:-0500
TZOFFSETTO:-0400
TZNAME:EDT
DTSTART:20260308T070000
END:DAYLIGHT
BEGIN:STANDARD
TZOFFSETFROM:-0400
TZOFFSETTO:-0500
TZNAME:EST
DTSTART:20261101T060000
END:STANDARD
END:VTIMEZONE
BEGIN:VEVENT
DTSTART;TZID=America/New_York:20250311T190000
DTEND;TZID=America/New_York:20250311T210000
DTSTAMP:20260420T101336
CREATED:20250210T144227Z
LAST-MODIFIED:20250210T145417Z
UID:11570-1741719600-1741726800@softbones.org
SUMMARY:STRENSIQ Perspectives - March 11\, 2025
DESCRIPTION:Gain a new perspective on treatment! \n  \nJoin Alexion\, AstraZeneca on March 11th at 7:00 PM Eastern for a virtual meeting on STRENSIQ. Attendees will have the opportunity to learn from an experienced HPP healthcare provider\, HPP patient or caregiver\, and OneSourceTM. \n  \nRegistration before the event is required to receive a link to the webinar. Register HERE. \n  \n \n \n 
URL:https://softbones.org/event/strensiq-perspectives-march-11-2025/
LOCATION:Online
END:VEVENT
BEGIN:VEVENT
DTSTART;TZID=America/New_York:20250325T200000
DTEND;TZID=America/New_York:20250325T210000
DTSTAMP:20260420T101336
CREATED:20250305T124523Z
LAST-MODIFIED:20250305T124523Z
UID:11673-1742932800-1742936400@softbones.org
SUMMARY:HPP AND ME Live Zoom Chat - March 25\, 2025
DESCRIPTION:Register for your spot today! \n\n\nJoin us on March 25\, 2025\, EDT for an HPP AND ME Zoom Chat. Connect with others and share your experiences with HPP. Registration is required. We hope to see you there! \nClick here to register.
URL:https://softbones.org/event/hpp-and-me-live-zoom-chat-march-25-2025/
LOCATION:Online
END:VEVENT
BEGIN:VEVENT
DTSTART;TZID=America/New_York:20250327T190000
DTEND;TZID=America/New_York:20250327T210000
DTSTAMP:20260420T101336
CREATED:20250319T171055Z
LAST-MODIFIED:20250319T171616Z
UID:11752-1743102000-1743109200@softbones.org
SUMMARY:STRENSIQ Perspectives - March 27\, 2025
DESCRIPTION:Gain a new perspective on treatment! \n  \nJoin Alexion\, AstraZeneca on March 27th at 7:00 PM Eastern for a virtual meeting on STRENSIQ. Attendees will have the opportunity to learn from an experienced HPP healthcare provider\, HPP patient or caregiver\, and OneSourceTM. \n  \nRegistration before the event is required to receive a link to the webinar. Register HERE. \n \n \n  \n 
URL:https://softbones.org/event/strensiq-perspectives-march-27-2025/
LOCATION:Online
END:VEVENT
END:VCALENDAR