BEGIN:VCALENDAR
VERSION:2.0
PRODID:-//Soft Bones - ECPv6.15.20//NONSGML v1.0//EN
CALSCALE:GREGORIAN
METHOD:PUBLISH
X-ORIGINAL-URL:https://softbones.org
X-WR-CALDESC:Events for Soft Bones
REFRESH-INTERVAL;VALUE=DURATION:PT1H
X-Robots-Tag:noindex
X-PUBLISHED-TTL:PT1H
BEGIN:VTIMEZONE
TZID:America/Chicago
BEGIN:DAYLIGHT
TZOFFSETFROM:-0600
TZOFFSETTO:-0500
TZNAME:CDT
DTSTART:20230312T080000
END:DAYLIGHT
BEGIN:STANDARD
TZOFFSETFROM:-0500
TZOFFSETTO:-0600
TZNAME:CST
DTSTART:20231105T070000
END:STANDARD
BEGIN:DAYLIGHT
TZOFFSETFROM:-0600
TZOFFSETTO:-0500
TZNAME:CDT
DTSTART:20240310T080000
END:DAYLIGHT
BEGIN:STANDARD
TZOFFSETFROM:-0500
TZOFFSETTO:-0600
TZNAME:CST
DTSTART:20241103T070000
END:STANDARD
BEGIN:DAYLIGHT
TZOFFSETFROM:-0600
TZOFFSETTO:-0500
TZNAME:CDT
DTSTART:20250309T080000
END:DAYLIGHT
BEGIN:STANDARD
TZOFFSETFROM:-0500
TZOFFSETTO:-0600
TZNAME:CST
DTSTART:20251102T070000
END:STANDARD
END:VTIMEZONE
BEGIN:VTIMEZONE
TZID:America/New_York
BEGIN:DAYLIGHT
TZOFFSETFROM:-0500
TZOFFSETTO:-0400
TZNAME:EDT
DTSTART:20230312T070000
END:DAYLIGHT
BEGIN:STANDARD
TZOFFSETFROM:-0400
TZOFFSETTO:-0500
TZNAME:EST
DTSTART:20231105T060000
END:STANDARD
BEGIN:DAYLIGHT
TZOFFSETFROM:-0500
TZOFFSETTO:-0400
TZNAME:EDT
DTSTART:20240310T070000
END:DAYLIGHT
BEGIN:STANDARD
TZOFFSETFROM:-0400
TZOFFSETTO:-0500
TZNAME:EST
DTSTART:20241103T060000
END:STANDARD
BEGIN:DAYLIGHT
TZOFFSETFROM:-0500
TZOFFSETTO:-0400
TZNAME:EDT
DTSTART:20250309T070000
END:DAYLIGHT
BEGIN:STANDARD
TZOFFSETFROM:-0400
TZOFFSETTO:-0500
TZNAME:EST
DTSTART:20251102T060000
END:STANDARD
END:VTIMEZONE
BEGIN:VEVENT
DTSTART;TZID=America/Chicago:20240609T190000
DTEND;TZID=America/Chicago:20240609T200000
DTSTAMP:20260424T221125
CREATED:20240430T231057Z
LAST-MODIFIED:20240502T231706Z
UID:9453-1717959600-1717963200@softbones.org
SUMMARY:Southwest Region Zoom Meeting and Chat
DESCRIPTION:Do you live in Arizona\, Hawaii\, Nevada\, New Mexico\, Southern California\, or Utah? \nJoin Region Leads Amy Britt and Sue Krug for a Region Zoom Meeting/Chat on June 9\, 2024\, at 7 PM Mountain Time/6 PM Pacific Time. Connect and chat with local members about life and HPP. Registration is required. We hope to see you there! \n  \nRegistration is required. Register below: https://us06web.zoom.us/meeting/register/tZIocuquqDkjHdcjnzSyPYHoLiDnBkBrA75U \n  \nIf you have any questions\, please reach out to cindy@softbones.org \n  \nThis meeting is sponsored in part by Alexion\, AstraZeneca Rare Disease.
URL:https://softbones.org/event/southwest-region-zoom-meeting-and-chat/
LOCATION:Online
END:VEVENT
BEGIN:VEVENT
DTSTART;TZID=America/New_York:20240612T200000
DTEND;TZID=America/New_York:20240612T210000
DTSTAMP:20260424T221125
CREATED:20240530T215826Z
LAST-MODIFIED:20240530T220302Z
UID:9812-1718222400-1718226000@softbones.org
SUMMARY:Midwest 1 Region Zoom Meeting and Chat
DESCRIPTION:Do you live in Illinois\, Indiana\, Iowa\, Minnesota\, or Wisconsin? \nJoin Region Leads\, Cindy Reasor and Nicole Belting\, for a virtual Zoom Meeting on June 12th at 8 PM Eastern/7 PM Central. As the National Patient Meeting is approaching\, this is your opportunity to connnect with others who will be attending. This is open to all in the Region even if you are not attending the NPM in Mason\, OH. \n  \nRegistration is required. Sign up below: \nhttps://us06web.zoom.us/meeting/register/tZMtf-2upzgqHtOnC3y1jJWLaGaCRwCJWFP0 \n  \nIf you have any questions\, please reach out to cindy@softbones.org \n  \nThis meeting is sponsored in part by Alexion\, AstraZeneca Rare Disease.
URL:https://softbones.org/event/midwest-1-region-zoom-meeting-and-chat/
LOCATION:Online
END:VEVENT
BEGIN:VEVENT
DTSTART;TZID=America/New_York:20240620T200000
DTEND;TZID=America/New_York:20240620T210000
DTSTAMP:20260424T221125
CREATED:20240529T230120Z
LAST-MODIFIED:20240529T230120Z
UID:9813-1718913600-1718917200@softbones.org
SUMMARY:HPP AND ME Live Zoom Chat
DESCRIPTION:Register for your spot today! \n\n\nJoin us on June 20th at 8:00 PM Eastern for an HPP AND ME Zoom Chat. Connect with others and share your experiences with HPP. Registration is required. We hope to see you there! \nClick here to register.
URL:https://softbones.org/event/hpp-and-me-live-zoom-chat-11/
LOCATION:Online
END:VEVENT
BEGIN:VEVENT
DTSTART;TZID=America/New_York:20240627T190000
DTEND;TZID=America/New_York:20240627T200000
DTSTAMP:20260424T221125
CREATED:20240607T030525Z
LAST-MODIFIED:20240607T030525Z
UID:9900-1719514800-1719518400@softbones.org
SUMMARY:Midwest 2 Region Zoom Meeting and Chat
DESCRIPTION:Do you live in Kentucky\, Michigan\, Ohio\, or West Virginia? \nJoin Region Leads Sharon Talkington and Nichole Macknight for a virtual Zoom Meeting on June 27th at 7 PM Eastern. This is open to all in the Region. As the National Patient Meeting is approaching\, this is a great opportunity to connect with others who will be attending as well. \n  \nRegistration is required. Sign up below: \nhttps://us06web.zoom.us/meeting/register/tZwkc-mtqD8rGd06Nrcw_4sysAgk4WJJOJrh \n  \nIf you have any questions\, please reach out to cindy@softbones.org \n  \nThis meeting is sponsored in part by Alexion\, AstraZeneca Rare Disease.
URL:https://softbones.org/event/midwest-2-region-zoom-meeting-and-chat/
LOCATION:Online
END:VEVENT
END:VCALENDAR