BEGIN:VCALENDAR
VERSION:2.0
PRODID:-//Soft Bones - ECPv6.15.20//NONSGML v1.0//EN
CALSCALE:GREGORIAN
METHOD:PUBLISH
X-ORIGINAL-URL:https://softbones.org
X-WR-CALDESC:Events for Soft Bones
REFRESH-INTERVAL;VALUE=DURATION:PT1H
X-Robots-Tag:noindex
X-PUBLISHED-TTL:PT1H
BEGIN:VTIMEZONE
TZID:America/New_York
BEGIN:DAYLIGHT
TZOFFSETFROM:-0500
TZOFFSETTO:-0400
TZNAME:EDT
DTSTART:20230312T070000
END:DAYLIGHT
BEGIN:STANDARD
TZOFFSETFROM:-0400
TZOFFSETTO:-0500
TZNAME:EST
DTSTART:20231105T060000
END:STANDARD
BEGIN:DAYLIGHT
TZOFFSETFROM:-0500
TZOFFSETTO:-0400
TZNAME:EDT
DTSTART:20240310T070000
END:DAYLIGHT
BEGIN:STANDARD
TZOFFSETFROM:-0400
TZOFFSETTO:-0500
TZNAME:EST
DTSTART:20241103T060000
END:STANDARD
BEGIN:DAYLIGHT
TZOFFSETFROM:-0500
TZOFFSETTO:-0400
TZNAME:EDT
DTSTART:20250309T070000
END:DAYLIGHT
BEGIN:STANDARD
TZOFFSETFROM:-0400
TZOFFSETTO:-0500
TZNAME:EST
DTSTART:20251102T060000
END:STANDARD
END:VTIMEZONE
BEGIN:VEVENT
DTSTART;TZID=America/New_York:20240516T130000
DTEND;TZID=America/New_York:20240516T140000
DTSTAMP:20260423T103922
CREATED:20240502T232904Z
LAST-MODIFIED:20240503T013153Z
UID:9450-1715864400-1715868000@softbones.org
SUMMARY:HPP AND ME Live Zoom Chat
DESCRIPTION:Register for your spot today! \n\n\nJoin us on May 16th at 1:00 PM EDT for an HPP AND ME Zoom Chat. Connect with others and share your experiences with HPP. Registration is required. We hope to see you there! \nClick here to register.
URL:https://softbones.org/event/hpp-and-me-live-zoom-chat-10/
LOCATION:Online
END:VEVENT
BEGIN:VEVENT
DTSTART;TZID=America/New_York:20240518T173000
DTEND;TZID=America/New_York:20240518T213000
DTSTAMP:20260423T103922
CREATED:20231005T043821Z
LAST-MODIFIED:20240514T022654Z
UID:8220-1716053400-1716067800@softbones.org
SUMMARY:Denim & Diamonds - Registration Open
DESCRIPTION:Registration is now open! It’s time to put on your cowboy boots and dance for a great cause! Join us for the 2nd Annual Soft Bones Denim & Diamonds fundraiser on Saturday\, May 18th\, 2024\, at Alstede Farms’ Harvest Hall\, in Chester\, NJ. There will be live music by Glenn Roberts’s Cranked Up Country Band\, dancing\, auction items\, games\, a campfire\, and more! \n  \nRegister for Denim and Diamonds below or pay at the door: \nhttps://app.donorview.com/r3Rwk \n  \nCan’t attend but still want to donate to Soft Bones? Donate an auctionable item. Contact Lucy at Lucy@softbones.org for more information.
URL:https://softbones.org/event/denim-diamonds-3/
LOCATION:Harvest Hall\, Chester\, NJ\, 100 Rte 24\, Chester\, NJ\, 07930\, United States
END:VEVENT
END:VCALENDAR