BEGIN:VCALENDAR
VERSION:2.0
PRODID:-//Soft Bones - ECPv6.15.20//NONSGML v1.0//EN
CALSCALE:GREGORIAN
METHOD:PUBLISH
X-ORIGINAL-URL:https://softbones.org
X-WR-CALDESC:Events for Soft Bones
REFRESH-INTERVAL;VALUE=DURATION:PT1H
X-Robots-Tag:noindex
X-PUBLISHED-TTL:PT1H
BEGIN:VTIMEZONE
TZID:America/Halifax
BEGIN:DAYLIGHT
TZOFFSETFROM:-0400
TZOFFSETTO:-0300
TZNAME:ADT
DTSTART:20240310T060000
END:DAYLIGHT
BEGIN:STANDARD
TZOFFSETFROM:-0300
TZOFFSETTO:-0400
TZNAME:AST
DTSTART:20241103T050000
END:STANDARD
BEGIN:DAYLIGHT
TZOFFSETFROM:-0400
TZOFFSETTO:-0300
TZNAME:ADT
DTSTART:20250309T060000
END:DAYLIGHT
BEGIN:STANDARD
TZOFFSETFROM:-0300
TZOFFSETTO:-0400
TZNAME:AST
DTSTART:20251102T050000
END:STANDARD
BEGIN:DAYLIGHT
TZOFFSETFROM:-0400
TZOFFSETTO:-0300
TZNAME:ADT
DTSTART:20260308T060000
END:DAYLIGHT
BEGIN:STANDARD
TZOFFSETFROM:-0300
TZOFFSETTO:-0400
TZNAME:AST
DTSTART:20261101T050000
END:STANDARD
END:VTIMEZONE
BEGIN:VEVENT
DTSTART;TZID=America/Halifax:20250924T190000
DTEND;TZID=America/Halifax:20250924T200000
DTSTAMP:20260421T120314
CREATED:20250903T180222Z
LAST-MODIFIED:20250903T180323Z
UID:12731-1758740400-1758744000@softbones.org
SUMMARY:HPP Empowered: September 24\, 2025 at 7:00 PM Eastern
DESCRIPTION:Have you or a loved one been diagnosed with hypophosphatasia (HPP)? \nJoin Alexion Pharmaceuticals\, Inc. as they host their HPP Empowered virtual educational event on Wednesday\, September 24\, 2025\, at 7:00 PM ET. \nRegister HERE. \n\n\nPresented by Alexion AstraZeneca Rare Disease.
URL:https://softbones.org/event/hpp-empowered-september-24-2025-at-700-pm-eastern/
LOCATION:Online
END:VEVENT
END:VCALENDAR