BEGIN:VCALENDAR
VERSION:2.0
PRODID:-//Soft Bones - ECPv6.15.20//NONSGML v1.0//EN
CALSCALE:GREGORIAN
METHOD:PUBLISH
X-ORIGINAL-URL:https://softbones.org
X-WR-CALDESC:Events for Soft Bones
REFRESH-INTERVAL;VALUE=DURATION:PT1H
X-Robots-Tag:noindex
X-PUBLISHED-TTL:PT1H
BEGIN:VTIMEZONE
TZID:America/Halifax
BEGIN:DAYLIGHT
TZOFFSETFROM:-0400
TZOFFSETTO:-0300
TZNAME:ADT
DTSTART:20240310T060000
END:DAYLIGHT
BEGIN:STANDARD
TZOFFSETFROM:-0300
TZOFFSETTO:-0400
TZNAME:AST
DTSTART:20241103T050000
END:STANDARD
BEGIN:DAYLIGHT
TZOFFSETFROM:-0400
TZOFFSETTO:-0300
TZNAME:ADT
DTSTART:20250309T060000
END:DAYLIGHT
BEGIN:STANDARD
TZOFFSETFROM:-0300
TZOFFSETTO:-0400
TZNAME:AST
DTSTART:20251102T050000
END:STANDARD
BEGIN:DAYLIGHT
TZOFFSETFROM:-0400
TZOFFSETTO:-0300
TZNAME:ADT
DTSTART:20260308T060000
END:DAYLIGHT
BEGIN:STANDARD
TZOFFSETFROM:-0300
TZOFFSETTO:-0400
TZNAME:AST
DTSTART:20261101T050000
END:STANDARD
END:VTIMEZONE
BEGIN:VEVENT
DTSTART;TZID=America/Halifax:20250718T173000
DTEND;TZID=America/Halifax:20250719T170000
DTSTAMP:20260421T120324
CREATED:20250124T154433Z
LAST-MODIFIED:20250623T122143Z
UID:11492-1752859800-1752944400@softbones.org
SUMMARY:2025 Soft Bones National Patient Meeting
DESCRIPTION:Join us for our 2025 Soft Bones National Patient Meeting on July 18th–July 19th\, 2025 in Williamsburg\, VA. This important event will bring together HPP community members to gain valuable knowledge while connecting with others. There is no cost to attend the meeting. \n  \nAgenda \nCheck out the AGENDA for an overview of the planned events and speakers. \n  \nMeeting Venue \nGreat Wolf Lodge (Williamsburg\, VA) \nAddress: 549 E Rochambeau Dr\, Williamsburg\, VA 23188 \nPhone: (800) 551-9653 \n  \nTravel Grant Reimbursement Information \nSoft Bones offers a limited number of travel grant reimbursements for those who need to subsidize the cost of transportation to the meeting. Refer to the travel grant policy for details. Please note that the foundation is a 501(c)(3) nonprofit organization that funds events such as this through ongoing fundraising efforts. We ask that when requesting a travel grant\, you use your best judgment so that funds can be disbursed based on need. Donations in any amount to help are appreciated. Be sure to answer the question regarding a travel grant during registration to indicate interest. Reimbursements are available for U.S. residents. \n  \nContact Us \nRegistration is now closed. Please contact PatientMeeting@SoftBones.org for more information. \n  \nThis meeting is sponsored in part by:  \nHeadline Sponsor: \n \n  \nChampion Sponsor: \n \n  \nAdvocate Sponsor: \n \n  \nCommunity Builder: \n \n \n \n  \n 
URL:https://softbones.org/event/2025-soft-bones-national-patient-meeting-registration-is-now-open/
LOCATION:Great Wolf Lodge (Williamsburg\, VA)\, 549 E Rochambeau Dr\, Williamsburg\, VA\, 23188\, United States
END:VEVENT
END:VCALENDAR