BEGIN:VCALENDAR
VERSION:2.0
PRODID:-//Soft Bones - ECPv6.15.20//NONSGML v1.0//EN
CALSCALE:GREGORIAN
METHOD:PUBLISH
X-WR-CALNAME:Soft Bones
X-ORIGINAL-URL:https://softbones.org
X-WR-CALDESC:Events for Soft Bones
REFRESH-INTERVAL;VALUE=DURATION:PT1H
X-Robots-Tag:noindex
X-PUBLISHED-TTL:PT1H
BEGIN:VTIMEZONE
TZID:America/Chicago
BEGIN:DAYLIGHT
TZOFFSETFROM:-0600
TZOFFSETTO:-0500
TZNAME:CDT
DTSTART:20240310T080000
END:DAYLIGHT
BEGIN:STANDARD
TZOFFSETFROM:-0500
TZOFFSETTO:-0600
TZNAME:CST
DTSTART:20241103T070000
END:STANDARD
BEGIN:DAYLIGHT
TZOFFSETFROM:-0600
TZOFFSETTO:-0500
TZNAME:CDT
DTSTART:20250309T080000
END:DAYLIGHT
BEGIN:STANDARD
TZOFFSETFROM:-0500
TZOFFSETTO:-0600
TZNAME:CST
DTSTART:20251102T070000
END:STANDARD
BEGIN:DAYLIGHT
TZOFFSETFROM:-0600
TZOFFSETTO:-0500
TZNAME:CDT
DTSTART:20260308T080000
END:DAYLIGHT
BEGIN:STANDARD
TZOFFSETFROM:-0500
TZOFFSETTO:-0600
TZNAME:CST
DTSTART:20261101T070000
END:STANDARD
END:VTIMEZONE
BEGIN:VEVENT
DTSTART;TZID=America/Chicago:20250525T100000
DTEND;TZID=America/Chicago:20250525T130000
DTSTAMP:20260422T190959
CREATED:20250403T182733Z
LAST-MODIFIED:20250403T182812Z
UID:11829-1748167200-1748178000@softbones.org
SUMMARY:Join Us for an In-Person Midwest 1 Region Meeting - May 25\, 2025
DESCRIPTION:Do you live in Illinois\, Indiana\, Iowa\, Minnesota\, or Wisconsin? \n  \nJoin us in Maple Grove/Anoka\, MN! \n  \nJoin Region Lead\, Jan R. for a Midwest 1 Region Luncheon on May 25\, 2025\, from 10 AM-1 PM Central Time. Come meet others from your region. Lunch will be served. \n  \nRegistration is required and will close on May 11th. Please register HERE. \n  \nThis event is sponsored in part by Alexion\, AstraZeneca. If you have any questions\, please reach out to Cindy@SoftBones.org.
URL:https://softbones.org/event/join-us-for-an-in-person-midwest-1-region-meeting-may-25-2025/
END:VEVENT
END:VCALENDAR