BEGIN:VCALENDAR
VERSION:2.0
PRODID:-//Soft Bones - ECPv6.15.20//NONSGML v1.0//EN
CALSCALE:GREGORIAN
METHOD:PUBLISH
X-WR-CALNAME:Soft Bones
X-ORIGINAL-URL:https://softbones.org
X-WR-CALDESC:Events for Soft Bones
REFRESH-INTERVAL;VALUE=DURATION:PT1H
X-Robots-Tag:noindex
X-PUBLISHED-TTL:PT1H
BEGIN:VTIMEZONE
TZID:America/Chicago
BEGIN:DAYLIGHT
TZOFFSETFROM:-0600
TZOFFSETTO:-0500
TZNAME:CDT
DTSTART:20240310T080000
END:DAYLIGHT
BEGIN:STANDARD
TZOFFSETFROM:-0500
TZOFFSETTO:-0600
TZNAME:CST
DTSTART:20241103T070000
END:STANDARD
BEGIN:DAYLIGHT
TZOFFSETFROM:-0600
TZOFFSETTO:-0500
TZNAME:CDT
DTSTART:20250309T080000
END:DAYLIGHT
BEGIN:STANDARD
TZOFFSETFROM:-0500
TZOFFSETTO:-0600
TZNAME:CST
DTSTART:20251102T070000
END:STANDARD
BEGIN:DAYLIGHT
TZOFFSETFROM:-0600
TZOFFSETTO:-0500
TZNAME:CDT
DTSTART:20260308T080000
END:DAYLIGHT
BEGIN:STANDARD
TZOFFSETFROM:-0500
TZOFFSETTO:-0600
TZNAME:CST
DTSTART:20261101T070000
END:STANDARD
END:VTIMEZONE
BEGIN:VEVENT
DTSTART;TZID=America/Chicago:20250510T103000
DTEND;TZID=America/Chicago:20250510T133000
DTSTAMP:20260422T180001
CREATED:20250303T200303Z
LAST-MODIFIED:20250404T171403Z
UID:11573-1746873000-1746883800@softbones.org
SUMMARY:Join Us for an In-Person Southeast Region Meeting - May 10\, 2025
DESCRIPTION:Do you live in Alabama\, Florida\, Georgia\, Mississippi\, North Carolina\, South Carolina\, or Tennessee? \n  \nJoin us in Nashville\, TN! \n  \nSoutheast Region Leads\, Blynda K.\, Scott G.\, and Tess O.\, have planned a lunch get-together on May 10\, 2025\, 10:30 AM-1:30 PM Central. All Southeast Region members and families are welcome to learn more about your local HPP support system and connect with fellow HPP families! \n  \nRegistration is required and will close on April 26th\, 2025. Please register HERE.  \n  \nIf you have any questions\, please reach out to Cindy@SoftBones.org.
URL:https://softbones.org/event/join-us-for-an-in-person-southeast-region-meeting/
END:VEVENT
END:VCALENDAR