BEGIN:VCALENDAR
VERSION:2.0
PRODID:-//Soft Bones - ECPv6.15.20//NONSGML v1.0//EN
CALSCALE:GREGORIAN
METHOD:PUBLISH
X-ORIGINAL-URL:https://softbones.org
X-WR-CALDESC:Events for Soft Bones
REFRESH-INTERVAL;VALUE=DURATION:PT1H
X-Robots-Tag:noindex
X-PUBLISHED-TTL:PT1H
BEGIN:VTIMEZONE
TZID:America/Chicago
BEGIN:DAYLIGHT
TZOFFSETFROM:-0600
TZOFFSETTO:-0500
TZNAME:CDT
DTSTART:20240310T080000
END:DAYLIGHT
BEGIN:STANDARD
TZOFFSETFROM:-0500
TZOFFSETTO:-0600
TZNAME:CST
DTSTART:20241103T070000
END:STANDARD
BEGIN:DAYLIGHT
TZOFFSETFROM:-0600
TZOFFSETTO:-0500
TZNAME:CDT
DTSTART:20250309T080000
END:DAYLIGHT
BEGIN:STANDARD
TZOFFSETFROM:-0500
TZOFFSETTO:-0600
TZNAME:CST
DTSTART:20251102T070000
END:STANDARD
BEGIN:DAYLIGHT
TZOFFSETFROM:-0600
TZOFFSETTO:-0500
TZNAME:CDT
DTSTART:20260308T080000
END:DAYLIGHT
BEGIN:STANDARD
TZOFFSETFROM:-0500
TZOFFSETTO:-0600
TZNAME:CST
DTSTART:20261101T070000
END:STANDARD
END:VTIMEZONE
BEGIN:VEVENT
DTSTART;TZID=America/Chicago:20250427T100000
DTEND;TZID=America/Chicago:20250427T130000
DTSTAMP:20260420T151909
CREATED:20250314T113840Z
LAST-MODIFIED:20250404T170209Z
UID:11697-1745748000-1745758800@softbones.org
SUMMARY:Join Us for an In-Person Midwest 1 Region Meeting - April 27\, 2025
DESCRIPTION:Do you live in Illinois\, Indiana\, Iowa\, Minnesota\, or Wisconsin? \nJoin Midwest 1 Region Lead\, Jan R. for a luncheon on Sunday\, April 27\, 2025\, from 10 AM – 1 PM Central in Coralville\, IA. All Midwest 1 Region members and families are welcome. Connect and chat with others from your region. Lunch will be served. \nRegistration is required and will close on April 12th. Please register HERE. \nIf you have any questions\, please reach out to Cindy@SoftBones.org.
URL:https://softbones.org/event/join-us-for-an-in-person-midwest-1-region-meeting/
END:VEVENT
END:VCALENDAR