BEGIN:VCALENDAR
VERSION:2.0
PRODID:-//Soft Bones - ECPv6.15.20//NONSGML v1.0//EN
CALSCALE:GREGORIAN
METHOD:PUBLISH
X-WR-CALNAME:Soft Bones
X-ORIGINAL-URL:https://softbones.org
X-WR-CALDESC:Events for Soft Bones
REFRESH-INTERVAL;VALUE=DURATION:PT1H
X-Robots-Tag:noindex
X-PUBLISHED-TTL:PT1H
BEGIN:VTIMEZONE
TZID:America/New_York
BEGIN:DAYLIGHT
TZOFFSETFROM:-0500
TZOFFSETTO:-0400
TZNAME:EDT
DTSTART:20240310T070000
END:DAYLIGHT
BEGIN:STANDARD
TZOFFSETFROM:-0400
TZOFFSETTO:-0500
TZNAME:EST
DTSTART:20241103T060000
END:STANDARD
BEGIN:DAYLIGHT
TZOFFSETFROM:-0500
TZOFFSETTO:-0400
TZNAME:EDT
DTSTART:20250309T070000
END:DAYLIGHT
BEGIN:STANDARD
TZOFFSETFROM:-0400
TZOFFSETTO:-0500
TZNAME:EST
DTSTART:20251102T060000
END:STANDARD
BEGIN:DAYLIGHT
TZOFFSETFROM:-0500
TZOFFSETTO:-0400
TZNAME:EDT
DTSTART:20260308T070000
END:DAYLIGHT
BEGIN:STANDARD
TZOFFSETFROM:-0400
TZOFFSETTO:-0500
TZNAME:EST
DTSTART:20261101T060000
END:STANDARD
END:VTIMEZONE
BEGIN:VEVENT
DTSTART;TZID=America/New_York:20250426T150000
DTEND;TZID=America/New_York:20250426T160000
DTSTAMP:20260420T135934
CREATED:20250312T170319Z
LAST-MODIFIED:20250404T170038Z
UID:11693-1745679600-1745683200@softbones.org
SUMMARY:Southeast Region Zoom Meeting and Chat - April 26\, 2025
DESCRIPTION:Do you live in Alabama\, Georgia\, Florida\, Mississippi\, North Carolina\, South Carolina\, or Tennessee? \n  \nJoin Region Leads Blynda K.\, Scott G.\, and Tess O.\, for a Southeast Region Zoom Meeting on Saturday\, April 26th at 3 PM Eastern. Meet your newest Region Lead\, Tess O.\, and connect with others in your region. Don’t miss out! \n  \nPlease register HERE. \n  \nIf you have any questions\, please reach out to Cindy Reasor (Cindy@SoftBones.org).
URL:https://softbones.org/event/southeast-region-zoom-meeting-and-chat-april-26-2025/
LOCATION:Online
END:VEVENT
END:VCALENDAR