BEGIN:VCALENDAR
VERSION:2.0
PRODID:-//Soft Bones - ECPv6.15.20//NONSGML v1.0//EN
CALSCALE:GREGORIAN
METHOD:PUBLISH
X-ORIGINAL-URL:https://softbones.org
X-WR-CALDESC:Events for Soft Bones
REFRESH-INTERVAL;VALUE=DURATION:PT1H
X-Robots-Tag:noindex
X-PUBLISHED-TTL:PT1H
BEGIN:VTIMEZONE
TZID:America/Chicago
BEGIN:DAYLIGHT
TZOFFSETFROM:-0600
TZOFFSETTO:-0500
TZNAME:CDT
DTSTART:20240310T080000
END:DAYLIGHT
BEGIN:STANDARD
TZOFFSETFROM:-0500
TZOFFSETTO:-0600
TZNAME:CST
DTSTART:20241103T070000
END:STANDARD
BEGIN:DAYLIGHT
TZOFFSETFROM:-0600
TZOFFSETTO:-0500
TZNAME:CDT
DTSTART:20250309T080000
END:DAYLIGHT
BEGIN:STANDARD
TZOFFSETFROM:-0500
TZOFFSETTO:-0600
TZNAME:CST
DTSTART:20251102T070000
END:STANDARD
BEGIN:DAYLIGHT
TZOFFSETFROM:-0600
TZOFFSETTO:-0500
TZNAME:CDT
DTSTART:20260308T080000
END:DAYLIGHT
BEGIN:STANDARD
TZOFFSETFROM:-0500
TZOFFSETTO:-0600
TZNAME:CST
DTSTART:20261101T070000
END:STANDARD
END:VTIMEZONE
BEGIN:VEVENT
DTSTART;TZID=America/Chicago:20250412T120000
DTEND;TZID=America/Chicago:20250412T140000
DTSTAMP:20260420T151808
CREATED:20250321T202947Z
LAST-MODIFIED:20250404T165740Z
UID:11771-1744459200-1744466400@softbones.org
SUMMARY:Join Us for an In-Person Northeast Region Meeting
DESCRIPTION:Do you live in Connecticut\, DC\, Delaware\, Maine\, Maryland\, Massachusetts\, New Hampshire\, New Jersey\, New York\, Pennsylvania\, Rhode Island\, Vermont\, or Virginia? \n  \nMeet us in Providence\, Rhode Island! \n  \nJoin Deb Fowler\, Founder and Chairman of the Board\, for a Northeast Region meet-up on April 12 at 12:00 PM Eastern. Connect with fellow HPP members\, share stories\, and learn more about our programs. Light refreshments will be provided. \n  \nRegistration is required and will close on April 7th. Register HERE. \n  \nIf you have any questions\, please reach out to Cindy@SoftBones.org.
URL:https://softbones.org/event/join-us-for-an-in-person-northeast-region-meeting/
LOCATION:Cafe Nero\, 75 Fountain Street\, Providence\, RI\, 02903\, United States
END:VEVENT
END:VCALENDAR